BEGIN:VCALENDAR
VERSION:2.0
PRODID:-//Take Flight Coaching - ECPv5.6.0//NONSGML v1.0//EN
CALSCALE:GREGORIAN
METHOD:PUBLISH
X-WR-CALNAME:Take Flight Coaching
X-ORIGINAL-URL:https://www.takeflightcoaching.ca
X-WR-CALDESC:Events for Take Flight Coaching
BEGIN:VTIMEZONE
TZID:America/Toronto
BEGIN:DAYLIGHT
TZOFFSETFROM:-0500
TZOFFSETTO:-0400
TZNAME:EDT
DTSTART:20180311T070000
END:DAYLIGHT
BEGIN:STANDARD
TZOFFSETFROM:-0400
TZOFFSETTO:-0500
TZNAME:EST
DTSTART:20181104T060000
END:STANDARD
END:VTIMEZONE
BEGIN:VEVENT
DTSTART;TZID=America/Toronto:20180531T190000
DTEND;TZID=America/Toronto:20180531T200000
DTSTAMP:20260425T125609
CREATED:20180222T031109Z
LAST-MODIFIED:20180222T031109Z
UID:444-1527793200-1527796800@www.takeflightcoaching.ca
SUMMARY:How to Explain a Diagnosis to a Child
DESCRIPTION:Presenters: Janet Arnold & Francine McLeod \nAuthors of a newly published book “How to Explain a Diagnosis to a Child”. The book is Janet’s own recollection of her personal journey with her son and how the diagnosis stengthened her commitment to work collaboratively with his educators to ensure his rights and needs were met.
URL:https://www.takeflightcoaching.ca/event/how-to-explain-a-diagnosis-to-a-child/
LOCATION:Central Library – Mississauga\, 301 Burnhamthorpe Rd W\, Mississauga\, ON\, L5B 3Y3\, Canada
ORGANIZER;CN="LDA%20Peel%20Region":MAILTO:apartab@ldapr.ca
END:VEVENT
END:VCALENDAR